BEGIN:VCALENDAR
VERSION:2.0
PRODID:-//hacksw/handcal//NONSGML v1.0//EN
CALSCALE:GREGORIAN
BEGIN:VEVENT
DTSTART:20130116T130000Z
DTEND:20130116T130000Z
UID:e13058
DTSTAMP:20260423T052147Z
LOCATION:Edna and K.B. Weissman Building of Physical Sciences
DESCRIPTION:`Ergodicity Hypothesis' breakdown in Random Schroedinger Operators
SUMMARY:`Ergodicity Hypothesis' breakdown in Random Schroedinger Operators
END:VEVENT
END:VCALENDAR