BEGIN:VCALENDAR
VERSION:2.0
PRODID:-//hacksw/handcal//NONSGML v1.0//EN
CALSCALE:GREGORIAN
BEGIN:VEVENT
DTSTART:20130124T090000Z
DTEND:20130124T090000Z
UID:e13065
DTSTAMP:20260421T224356Z
LOCATION:Jacob Ziskind Building
DESCRIPTION:Multi-view learning of speech features using articulatory measurements
SUMMARY:Multi-view learning of speech features using articulatory measurements
END:VEVENT
END:VCALENDAR