BEGIN:VCALENDAR
VERSION:2.0
PRODID:-//hacksw/handcal//NONSGML v1.0//EN
CALSCALE:GREGORIAN
BEGIN:VEVENT
DTSTART:20130127T101500Z
DTEND:20130127T101500Z
UID:e13066
DTSTAMP:20260425T070935Z
LOCATION:Gerhard M.J. Schmidt Lecture Hall
DESCRIPTION:"Energy Generation through Nuclear Fusion"
SUMMARY:"Energy Generation through Nuclear Fusion"
END:VEVENT
END:VCALENDAR