BEGIN:VCALENDAR
VERSION:2.0
PRODID:-//hacksw/handcal//NONSGML v1.0//EN
CALSCALE:GREGORIAN
BEGIN:VEVENT
DTSTART:20130210T093000Z
DTEND:20130210T093000Z
UID:e13069
DTSTAMP:20260422T091132Z
LOCATION:Michael Sela Auditorium
DESCRIPTION:Chemical Physics Lunch Club Seminar
SUMMARY:Chemical Physics Lunch Club Seminar
END:VEVENT
END:VCALENDAR