BEGIN:VCALENDAR
VERSION:2.0
PRODID:-//hacksw/handcal//NONSGML v1.0//EN
CALSCALE:GREGORIAN
BEGIN:VEVENT
DTSTART:20130130T080000Z
DTEND:20130130T080000Z
UID:e13070
DTSTAMP:20260425T135500Z
LOCATION:Perlman Chemical Sciences Building
DESCRIPTION:Toward Controlled Chemistry as the Space-Time Limit 
SUMMARY:Toward Controlled Chemistry as the Space-Time Limit 
END:VEVENT
END:VCALENDAR