BEGIN:VCALENDAR
VERSION:2.0
PRODID:-//hacksw/handcal//NONSGML v1.0//EN
CALSCALE:GREGORIAN
BEGIN:VEVENT
DTSTART:20130124T081500Z
DTEND:20130124T093000Z
UID:e13072
DTSTAMP:20260424T180032Z
LOCATION:Edna and K.B. Weissman Building of Physical Sciences
DESCRIPTION:New Observations about Quantum Field Theory
SUMMARY:New Observations about Quantum Field Theory
END:VEVENT
END:VCALENDAR