BEGIN:VCALENDAR
VERSION:2.0
PRODID:-//hacksw/handcal//NONSGML v1.0//EN
CALSCALE:GREGORIAN
BEGIN:VEVENT
DTSTART:20130408T111500Z
DTEND:20130408T111500Z
UID:e13074
DTSTAMP:20260420T085613Z
LOCATION:Edna and K.B. Weissman Building of Physical Sciences
DESCRIPTION:Adaptive networks with preferred degree: from the mundane to the surprises
SUMMARY:Adaptive networks with preferred degree: from the mundane to the surprises
END:VEVENT
END:VCALENDAR