BEGIN:VCALENDAR
VERSION:2.0
PRODID:-//hacksw/handcal//NONSGML v1.0//EN
CALSCALE:GREGORIAN
BEGIN:VEVENT
DTSTART:20130304T110000Z
DTEND:20130304T110000Z
UID:e13076
DTSTAMP:20260422T182608Z
LOCATION:Max and Lillian Candiotty Building
DESCRIPTION:Obesity Diabetes and Cancer\; is Hyperinsulinemia the culprit?
SUMMARY:Obesity Diabetes and Cancer\; is Hyperinsulinemia the culprit?
END:VEVENT
END:VCALENDAR