BEGIN:VCALENDAR
VERSION:2.0
PRODID:-//hacksw/handcal//NONSGML v1.0//EN
CALSCALE:GREGORIAN
BEGIN:VEVENT
DTSTART:20130205T103000Z
DTEND:20130205T103000Z
UID:e13078
DTSTAMP:20260422T091134Z
LOCATION:Jacob Ziskind Building
DESCRIPTION:Interactive Network Exploration to Derive Insights:  Filtering\, Clustering\, Grouping\, and Simplification
SUMMARY:Interactive Network Exploration to Derive Insights:  Filtering\, Clustering\, Grouping\, and Simplification
END:VEVENT
END:VCALENDAR