BEGIN:VCALENDAR
VERSION:2.0
PRODID:-//hacksw/handcal//NONSGML v1.0//EN
CALSCALE:GREGORIAN
BEGIN:VEVENT
DTSTART:20130130T080000Z
DTEND:20130130T093000Z
UID:e13087
DTSTAMP:20260424T111014Z
LOCATION:Arthur and Rochelle Belfer Building for Biomedical Research
DESCRIPTION:Seminar by Dr. Sonja Sievers - Head of COMAS - Compound Management and Screening Center\, Max Planck Institute of Molecular Physiology
SUMMARY:Seminar by Dr. Sonja Sievers - Head of COMAS - Compound Management and Screening Center\, Max Planck Institute of Molecular Physiology
END:VEVENT
END:VCALENDAR