BEGIN:VCALENDAR
VERSION:2.0
PRODID:-//hacksw/handcal//NONSGML v1.0//EN
CALSCALE:GREGORIAN
BEGIN:VEVENT
DTSTART:20130131T063000Z
DTEND:20130131T063000Z
UID:e13088
DTSTAMP:20260424T180028Z
LOCATION:Arthur and Rochelle Belfer Building for Biomedical Research
DESCRIPTION:"Discovering ROS regulators - A conserved small zinc finger protein mediates singlet oxygen responses in algae and higher plants"
SUMMARY:"Discovering ROS regulators - A conserved small zinc finger protein mediates singlet oxygen responses in algae and higher plants"
END:VEVENT
END:VCALENDAR