BEGIN:VCALENDAR
VERSION:2.0
PRODID:-//hacksw/handcal//NONSGML v1.0//EN
CALSCALE:GREGORIAN
BEGIN:VEVENT
DTSTART:20130204T080000Z
DTEND:20130204T080000Z
UID:e13090
DTSTAMP:20260422T091138Z
LOCATION:Camelia Botnar Building
DESCRIPTION:Metabolic Syndrome Research Club
SUMMARY:Metabolic Syndrome Research Club
END:VEVENT
END:VCALENDAR