BEGIN:VCALENDAR
VERSION:2.0
PRODID:-//hacksw/handcal//NONSGML v1.0//EN
CALSCALE:GREGORIAN
BEGIN:VEVENT
DTSTART:20130128T063000Z
DTEND:20130128T063000Z
UID:e13092
DTSTAMP:20260425T124626Z
LOCATION:Arthur and Rochelle Belfer Building for Biomedical Research
DESCRIPTION:AltNeuLang/Lab Evolution:  Network of Life\, Cross-Fertilization\, Natural Selection and Genetic Mix & Match in LANGUAGE REVIVAL
SUMMARY:AltNeuLang/Lab Evolution:  Network of Life\, Cross-Fertilization\, Natural Selection and Genetic Mix & Match in LANGUAGE REVIVAL
END:VEVENT
END:VCALENDAR