BEGIN:VCALENDAR
VERSION:2.0
PRODID:-//hacksw/handcal//NONSGML v1.0//EN
CALSCALE:GREGORIAN
BEGIN:VEVENT
DTSTART:20130127T080000Z
DTEND:20130127T090000Z
UID:e13093
DTSTAMP:20260425T075224Z
LOCATION:Helen and Milton A. Kimmelman Building
DESCRIPTION:Novel Surface Visualizations in Macromolecular\, Crystalline\, and Solid-State Systems
SUMMARY:Novel Surface Visualizations in Macromolecular\, Crystalline\, and Solid-State Systems
END:VEVENT
END:VCALENDAR