BEGIN:VCALENDAR
VERSION:2.0
PRODID:-//hacksw/handcal//NONSGML v1.0//EN
CALSCALE:GREGORIAN
BEGIN:VEVENT
DTSTART:20130131T081500Z
DTEND:20130131T093000Z
UID:e13094
DTSTAMP:20260424T111013Z
LOCATION:Edna and K.B. Weissman Building of Physical Sciences
DESCRIPTION:Ultrafast AMO Physics with strong laser fields:
SUMMARY:Ultrafast AMO Physics with strong laser fields:
END:VEVENT
END:VCALENDAR