BEGIN:VCALENDAR
VERSION:2.0
PRODID:-//hacksw/handcal//NONSGML v1.0//EN
CALSCALE:GREGORIAN
BEGIN:VEVENT
DTSTART:19691231T160000Z
DTEND:19691231T160000Z
UID:e13099
DTSTAMP:20260420T155050Z
LOCATION:The David Lopatie Conference Centre
DESCRIPTION:Computational Biology: Then and Now
SUMMARY:Computational Biology: Then and Now
END:VEVENT
END:VCALENDAR