BEGIN:VCALENDAR
VERSION:2.0
PRODID:-//hacksw/handcal//NONSGML v1.0//EN
CALSCALE:GREGORIAN
BEGIN:VEVENT
DTSTART:20130217T101500Z
DTEND:20130217T101500Z
UID:e13101
DTSTAMP:20260422T200311Z
LOCATION:Gerhard M.J. Schmidt Lecture Hall
DESCRIPTION:"Cooling\, dehumidification and air conditioning powered by solar and low-grade heat"
SUMMARY:"Cooling\, dehumidification and air conditioning powered by solar and low-grade heat"
END:VEVENT
END:VCALENDAR