BEGIN:VCALENDAR
VERSION:2.0
PRODID:-//hacksw/handcal//NONSGML v1.0//EN
CALSCALE:GREGORIAN
BEGIN:VEVENT
DTSTART:20130211T113000Z
DTEND:20130211T113000Z
UID:e13103
DTSTAMP:20260422T182636Z
LOCATION:Perlman Chemical Sciences Building
DESCRIPTION:Perovskite-type oxides and Heusler phases for future energy technologies
SUMMARY:Perovskite-type oxides and Heusler phases for future energy technologies
END:VEVENT
END:VCALENDAR