BEGIN:VCALENDAR
VERSION:2.0
PRODID:-//hacksw/handcal//NONSGML v1.0//EN
CALSCALE:GREGORIAN
BEGIN:VEVENT
DTSTART:20130204T111500Z
DTEND:20130204T111500Z
UID:e13108
DTSTAMP:20260422T091141Z
LOCATION:Edna and K.B. Weissman Building of Physical Sciences
DESCRIPTION:Random organization of cell populations
SUMMARY:Random organization of cell populations
END:VEVENT
END:VCALENDAR