BEGIN:VCALENDAR
VERSION:2.0
PRODID:-//hacksw/handcal//NONSGML v1.0//EN
CALSCALE:GREGORIAN
BEGIN:VEVENT
DTSTART:20130304T080000Z
DTEND:20130304T093000Z
UID:e13109
DTSTAMP:20260422T182654Z
LOCATION:Gerhard M.J. Schmidt Lecture Hall
DESCRIPTION:Shneior Lifson Memorial lecture- Prof. Peter Schuster
SUMMARY:Shneior Lifson Memorial lecture- Prof. Peter Schuster
END:VEVENT
END:VCALENDAR