BEGIN:VCALENDAR
VERSION:2.0
PRODID:-//hacksw/handcal//NONSGML v1.0//EN
CALSCALE:GREGORIAN
BEGIN:VEVENT
DTSTART:20131215T064500Z
DTEND:20131215T093000Z
UID:e13112
DTSTAMP:20260423T183839Z
LOCATION:Dolfi and Lola Ebner Auditorium
DESCRIPTION:Michael Sela Symposium 
SUMMARY:Michael Sela Symposium 
END:VEVENT
END:VCALENDAR