BEGIN:VCALENDAR
VERSION:2.0
PRODID:-//hacksw/handcal//NONSGML v1.0//EN
CALSCALE:GREGORIAN
BEGIN:VEVENT
DTSTART:20130207T081500Z
DTEND:20130207T093000Z
UID:e13121
DTSTAMP:20260422T091154Z
LOCATION:Edna and K.B. Weissman Building of Physical Sciences
DESCRIPTION:Gamma Ray Bursts and the Birth of Black Holes
SUMMARY:Gamma Ray Bursts and the Birth of Black Holes
END:VEVENT
END:VCALENDAR