BEGIN:VCALENDAR
VERSION:2.0
PRODID:-//hacksw/handcal//NONSGML v1.0//EN
CALSCALE:GREGORIAN
BEGIN:VEVENT
DTSTART:20130218T111500Z
DTEND:20130218T111500Z
UID:e13123
DTSTAMP:20260423T084814Z
LOCATION:Edna and K.B. Weissman Building of Physical Sciences
DESCRIPTION:Confinement Effects on the Jamming Transition in Kinetically-Constrained Models
SUMMARY:Confinement Effects on the Jamming Transition in Kinetically-Constrained Models
END:VEVENT
END:VCALENDAR