BEGIN:VCALENDAR
VERSION:2.0
PRODID:-//hacksw/handcal//NONSGML v1.0//EN
CALSCALE:GREGORIAN
BEGIN:VEVENT
DTSTART:20130425T173000Z
DTEND:20130425T173000Z
UID:e13126
DTSTAMP:20260419T224755Z
LOCATION:Michael Sela Auditorium
DESCRIPTION:The Haifa Symphony Orchestra
SUMMARY:The Haifa Symphony Orchestra
END:VEVENT
END:VCALENDAR