BEGIN:VCALENDAR
VERSION:2.0
PRODID:-//hacksw/handcal//NONSGML v1.0//EN
CALSCALE:GREGORIAN
BEGIN:VEVENT
DTSTART:20130430T143000Z
DTEND:20130430T143000Z
UID:e13127
DTSTAMP:20260420T194240Z
LOCATION:Michael Sela Auditorium
DESCRIPTION:Magical Melodies
SUMMARY:Magical Melodies
END:VEVENT
END:VCALENDAR