BEGIN:VCALENDAR
VERSION:2.0
PRODID:-//hacksw/handcal//NONSGML v1.0//EN
CALSCALE:GREGORIAN
BEGIN:VEVENT
DTSTART:20130220T080000Z
DTEND:20130220T100000Z
UID:e13130
DTSTAMP:20260423T044708Z
LOCATION:Gerhard M.J. Schmidt Lecture Hall
DESCRIPTION:Water Forum
SUMMARY:Water Forum
END:VEVENT
END:VCALENDAR