BEGIN:VCALENDAR
VERSION:2.0
PRODID:-//hacksw/handcal//NONSGML v1.0//EN
CALSCALE:GREGORIAN
BEGIN:VEVENT
DTSTART:20130529T134500Z
DTEND:20130604T153000Z
UID:e13133
DTSTAMP:20260420T062933Z
LOCATION:The David Lopatie Conference Centre
DESCRIPTION:Low X
SUMMARY:Low X
END:VEVENT
END:VCALENDAR