BEGIN:VCALENDAR
VERSION:2.0
PRODID:-//hacksw/handcal//NONSGML v1.0//EN
CALSCALE:GREGORIAN
BEGIN:VEVENT
DTSTART:20130213T080000Z
DTEND:20130213T080000Z
UID:e13140
DTSTAMP:20260423T155357Z
LOCATION:Jacob Ziskind Building
DESCRIPTION: A generalized P'olya's Urn with graph based interactions 
SUMMARY: A generalized P'olya's Urn with graph based interactions 
END:VEVENT
END:VCALENDAR