BEGIN:VCALENDAR
VERSION:2.0
PRODID:-//hacksw/handcal//NONSGML v1.0//EN
CALSCALE:GREGORIAN
BEGIN:VEVENT
DTSTART:20130214T081500Z
DTEND:20130214T090000Z
UID:e13141
DTSTAMP:20260423T044645Z
LOCATION:Edna and K.B. Weissman Building of Physical Sciences
DESCRIPTION:Wave Compression in Plasma
SUMMARY:Wave Compression in Plasma
END:VEVENT
END:VCALENDAR