BEGIN:VCALENDAR
VERSION:2.0
PRODID:-//hacksw/handcal//NONSGML v1.0//EN
CALSCALE:GREGORIAN
BEGIN:VEVENT
DTSTART:20130220T100000Z
DTEND:20130220T100000Z
UID:e13145
DTSTAMP:20260423T084818Z
LOCATION:Arthur and Rochelle Belfer Building for Biomedical Research
DESCRIPTION:Next Generation Sequencing: technical aspects of library preparation & application
SUMMARY:Next Generation Sequencing: technical aspects of library preparation & application
END:VEVENT
END:VCALENDAR