BEGIN:VCALENDAR
VERSION:2.0
PRODID:-//hacksw/handcal//NONSGML v1.0//EN
CALSCALE:GREGORIAN
BEGIN:VEVENT
DTSTART:20130311T080000Z
DTEND:20130311T080000Z
UID:e13150
DTSTAMP:20260423T185213Z
LOCATION:Sussman Family Building for Environmental Sciences
DESCRIPTION:Catalytic Reforming of Biogas for Syngas Production
SUMMARY:Catalytic Reforming of Biogas for Syngas Production
END:VEVENT
END:VCALENDAR