BEGIN:VCALENDAR
VERSION:2.0
PRODID:-//hacksw/handcal//NONSGML v1.0//EN
CALSCALE:GREGORIAN
BEGIN:VEVENT
DTSTART:20130317T080000Z
DTEND:20130317T080000Z
UID:e13153
DTSTAMP:20260424T105537Z
LOCATION:Sussman Family Building for Environmental Sciences
DESCRIPTION:Embracing Complexity: Deciphering Origins and Transformations of Atmospheric Organics through Speciated Measurements
SUMMARY:Embracing Complexity: Deciphering Origins and Transformations of Atmospheric Organics through Speciated Measurements
END:VEVENT
END:VCALENDAR