BEGIN:VCALENDAR
VERSION:2.0
PRODID:-//hacksw/handcal//NONSGML v1.0//EN
CALSCALE:GREGORIAN
BEGIN:VEVENT
DTSTART:20130407T080000Z
DTEND:20130407T080000Z
UID:e13154
DTSTAMP:20260420T155045Z
LOCATION:
DESCRIPTION:Biological and chemical diversity of biogenic volatile organic compound emissions and their impact on air quality and climate
SUMMARY:Biological and chemical diversity of biogenic volatile organic compound emissions and their impact on air quality and climate
END:VEVENT
END:VCALENDAR