BEGIN:VCALENDAR
VERSION:2.0
PRODID:-//hacksw/handcal//NONSGML v1.0//EN
CALSCALE:GREGORIAN
BEGIN:VEVENT
DTSTART:20130219T081500Z
DTEND:20130219T081500Z
UID:e13156
DTSTAMP:20260424T180030Z
LOCATION:Ullmann Building of Life Sciences
DESCRIPTION:"Singlet oxygen emerges as a common theme in the plant response to multiple stress"
SUMMARY:"Singlet oxygen emerges as a common theme in the plant response to multiple stress"
END:VEVENT
END:VCALENDAR