BEGIN:VCALENDAR
VERSION:2.0
PRODID:-//hacksw/handcal//NONSGML v1.0//EN
CALSCALE:GREGORIAN
BEGIN:VEVENT
DTSTART:20130221T090000Z
DTEND:20130221T090000Z
UID:e13157
DTSTAMP:20260422T204823Z
LOCATION:Jacob Ziskind Building
DESCRIPTION:The Poisson Equation in Image Stitching 
SUMMARY:The Poisson Equation in Image Stitching 
END:VEVENT
END:VCALENDAR