BEGIN:VCALENDAR
VERSION:2.0
PRODID:-//hacksw/handcal//NONSGML v1.0//EN
CALSCALE:GREGORIAN
BEGIN:VEVENT
DTSTART:20130226T110000Z
DTEND:20130226T120000Z
UID:e13158
DTSTAMP:20260424T050114Z
LOCATION:Helen and Milton A. Kimmelman Building
DESCRIPTION:"Structural Study of the GAL Regulon in
SUMMARY:"Structural Study of the GAL Regulon in
END:VEVENT
END:VCALENDAR