BEGIN:VCALENDAR
VERSION:2.0
PRODID:-//hacksw/handcal//NONSGML v1.0//EN
CALSCALE:GREGORIAN
BEGIN:VEVENT
DTSTART:20130217T080000Z
DTEND:20130217T080000Z
UID:e13162
DTSTAMP:20260422T182615Z
LOCATION:Jacob Ziskind Building
DESCRIPTION:The security impact of a new cryptographic library 
SUMMARY:The security impact of a new cryptographic library 
END:VEVENT
END:VCALENDAR