BEGIN:VCALENDAR
VERSION:2.0
PRODID:-//hacksw/handcal//NONSGML v1.0//EN
CALSCALE:GREGORIAN
BEGIN:VEVENT
DTSTART:20130312T080000Z
DTEND:20130312T080000Z
UID:e13168
DTSTAMP:20260423T155456Z
LOCATION:Michael Sela Auditorium
DESCRIPTION:Biophysical and microfluidic manipulation of stem cell fate
SUMMARY:Biophysical and microfluidic manipulation of stem cell fate
END:VEVENT
END:VCALENDAR