BEGIN:VCALENDAR
VERSION:2.0
PRODID:-//hacksw/handcal//NONSGML v1.0//EN
CALSCALE:GREGORIAN
BEGIN:VEVENT
DTSTART:20130319T054500Z
DTEND:20130319T084500Z
UID:e13170
DTSTAMP:20260424T180027Z
LOCATION:Camelia Botnar Building
DESCRIPTION:Mini Symposium on Synthetic Biology
SUMMARY:Mini Symposium on Synthetic Biology
END:VEVENT
END:VCALENDAR