BEGIN:VCALENDAR
VERSION:2.0
PRODID:-//hacksw/handcal//NONSGML v1.0//EN
CALSCALE:GREGORIAN
BEGIN:VEVENT
DTSTART:20130307T130000Z
DTEND:20130307T130000Z
UID:e13171
DTSTAMP:20260423T185210Z
LOCATION:Dolfi and Lola Ebner Auditorium
DESCRIPTION:Art + : Intersections of Art and Mathematics 
SUMMARY:Art + : Intersections of Art and Mathematics 
END:VEVENT
END:VCALENDAR