BEGIN:VCALENDAR
VERSION:2.0
PRODID:-//hacksw/handcal//NONSGML v1.0//EN
CALSCALE:GREGORIAN
BEGIN:VEVENT
DTSTART:20130221T081500Z
DTEND:20130221T093000Z
UID:e13172
DTSTAMP:20260423T084748Z
LOCATION:Edna and K.B. Weissman Building of Physical Sciences
DESCRIPTION:Seeing Electrons in Two Dimensions: Optical Spectroscopy of Graphene
SUMMARY:Seeing Electrons in Two Dimensions: Optical Spectroscopy of Graphene
END:VEVENT
END:VCALENDAR