BEGIN:VCALENDAR
VERSION:2.0
PRODID:-//hacksw/handcal//NONSGML v1.0//EN
CALSCALE:GREGORIAN
BEGIN:VEVENT
DTSTART:20130224T070000Z
DTEND:20130224T074500Z
UID:e13175
DTSTAMP:20260423T084747Z
LOCATION:The David Lopatie Conference Centre
DESCRIPTION:FRISNO12 - Prof. Ye Jun 
SUMMARY:FRISNO12 - Prof. Ye Jun 
END:VEVENT
END:VCALENDAR