BEGIN:VCALENDAR
VERSION:2.0
PRODID:-//hacksw/handcal//NONSGML v1.0//EN
CALSCALE:GREGORIAN
BEGIN:VEVENT
DTSTART:20130224T081500Z
DTEND:20130224T084500Z
UID:e13176
DTSTAMP:20260423T155406Z
LOCATION:The David Lopatie Conference Centre
DESCRIPTION:FRISNO12 - Prof. Ady Arie  
SUMMARY:FRISNO12 - Prof. Ady Arie  
END:VEVENT
END:VCALENDAR