BEGIN:VCALENDAR
VERSION:2.0
PRODID:-//hacksw/handcal//NONSGML v1.0//EN
CALSCALE:GREGORIAN
BEGIN:VEVENT
DTSTART:20130224T084500Z
DTEND:20130224T090000Z
UID:e13177
DTSTAMP:20260425T070948Z
LOCATION:The David Lopatie Conference Centre
DESCRIPTION:FRISNO12 - Prof. Fridman Moti
SUMMARY:FRISNO12 - Prof. Fridman Moti
END:VEVENT
END:VCALENDAR