BEGIN:VCALENDAR
VERSION:2.0
PRODID:-//hacksw/handcal//NONSGML v1.0//EN
CALSCALE:GREGORIAN
BEGIN:VEVENT
DTSTART:20130226T081500Z
DTEND:20130226T081500Z
UID:e13178
DTSTAMP:20260422T182611Z
LOCATION:Ullmann Building of Life Sciences
DESCRIPTION:"Historical Perspective on Taxol Biosynthesis: Then and Now"
SUMMARY:"Historical Perspective on Taxol Biosynthesis: Then and Now"
END:VEVENT
END:VCALENDAR