BEGIN:VCALENDAR
VERSION:2.0
PRODID:-//hacksw/handcal//NONSGML v1.0//EN
CALSCALE:GREGORIAN
BEGIN:VEVENT
DTSTART:20130318T111500Z
DTEND:20130318T111500Z
UID:e13179
DTSTAMP:20260424T223803Z
LOCATION:Edna and K.B. Weissman Building of Physical Sciences
DESCRIPTION:Polymer-mediated entropic forces in confined spaces
SUMMARY:Polymer-mediated entropic forces in confined spaces
END:VEVENT
END:VCALENDAR