BEGIN:VCALENDAR
VERSION:2.0
PRODID:-//hacksw/handcal//NONSGML v1.0//EN
CALSCALE:GREGORIAN
BEGIN:VEVENT
DTSTART:20130311T111500Z
DTEND:20130311T111500Z
UID:e13180
DTSTAMP:20260423T155459Z
LOCATION:Edna and K.B. Weissman Building of Physical Sciences
DESCRIPTION:Fluctuation scaling in complex systems
SUMMARY:Fluctuation scaling in complex systems
END:VEVENT
END:VCALENDAR