BEGIN:VCALENDAR
VERSION:2.0
PRODID:-//hacksw/handcal//NONSGML v1.0//EN
CALSCALE:GREGORIAN
BEGIN:VEVENT
DTSTART:20130306T070000Z
DTEND:20130306T133000Z
UID:e13181
DTSTAMP:20260423T155450Z
LOCATION:Nella and Leon Benoziyo Physics Building
DESCRIPTION:Informal workshop with prof. Michel Mayor
SUMMARY:Informal workshop with prof. Michel Mayor
END:VEVENT
END:VCALENDAR