BEGIN:VCALENDAR
VERSION:2.0
PRODID:-//hacksw/handcal//NONSGML v1.0//EN
CALSCALE:GREGORIAN
BEGIN:VEVENT
DTSTART:20130310T100000Z
DTEND:20130310T100000Z
UID:e13188
DTSTAMP:20260424T034511Z
LOCATION:Arthur and Rochelle Belfer Building for Biomedical Research
DESCRIPTION:the development of the tendon- bone attachment
SUMMARY:the development of the tendon- bone attachment
END:VEVENT
END:VCALENDAR