BEGIN:VCALENDAR
VERSION:2.0
PRODID:-//hacksw/handcal//NONSGML v1.0//EN
CALSCALE:GREGORIAN
BEGIN:VEVENT
DTSTART:20130313T093000Z
DTEND:20130313T093000Z
UID:e13194
DTSTAMP:20260425T070939Z
LOCATION:Gerhard M.J. Schmidt Lecture Hall
DESCRIPTION:Quantitative MRI: new measurements reveal structure-function relationships in the living human brain
SUMMARY:Quantitative MRI: new measurements reveal structure-function relationships in the living human brain
END:VEVENT
END:VCALENDAR